BEGIN:VCALENDAR
VERSION:2.0
METHOD:PUBLISH
PRODID:-//ActiveDataExchange/NEXTGEN V1//EN
BEGIN:VEVENT
ORGANIZER:mailto:khorton9@fordham.edu
DTSTART:20260504T164500Z
DTEND:20260504T174500Z
DTSTAMP:20260425T170430Z
LOCATION:2-02 (Costantino) 150 West 62nd Street New York NY 10023
SUMMARY:Faculty Meetng with Senior Professionals
DESCRIPTION:Faculty Meeting with Senior Professionals\nView the full event details here: https://go.activecalendar.com/FordhamUniversity/site/law/event/faculty-meetng-with-senior-professionals/
CATEGORIES:Faculty Meetings
CONTACT:Kathleen Horton,khorton9@fordham.edu,212-636-7992
CLASS:PUBLIC
UID:A7A3083B-4622-4A2F-9AA2-C95A0B663445
BEGIN:VALARM
TRIGGER:-PT15M
ACTION:DISPLAY
DESCRIPTION:Faculty Meetng with Senior Professionals
END:VALARM
END:VEVENT
END:VCALENDAR
