BEGIN:VCALENDAR
VERSION:2.0
METHOD:PUBLISH
PRODID:-//ActiveDataExchange/NEXTGEN V1//EN
BEGIN:VEVENT
ORGANIZER:mailto:amuiru@fordham.edu
DTSTART:20260428T220000Z
DTEND:20260429T010000Z
DTSTAMP:20260425T170328Z
LOCATION:4-01 150 West 62nd Street New York NY 10023
SUMMARY:Soul Arbitration - Film Screening
DESCRIPTION:The Leitner Center presents: Soul Arbitration - Film Screeni
 ng\nView the full event details here: https://go.activecalendar.com/FordhamUniversity/site/law/event/soul-arbitration---film-screening/
CATEGORIES:Leitner Center
CONTACT:Arthur Muiru,amuiru@fordham.edu
CLASS:PUBLIC
UID:DF85FDC9-8711-4542-B7D4-C84D8BF38322
BEGIN:VALARM
TRIGGER:-PT15M
ACTION:DISPLAY
DESCRIPTION:Soul Arbitration - Film Screening
END:VALARM
END:VEVENT
END:VCALENDAR
