BEGIN:VCALENDAR
VERSION:2.0
METHOD:PUBLISH
PRODID:-//ActiveDataExchange/NEXTGEN V1//EN
BEGIN:VEVENT
ORGANIZER:mailto:csteriti@fordham.edu
DTSTART:20260223T210000Z
DTEND:20260223T223000Z
DTSTAMP:20260422T153445Z
LOCATION:2-02 (Costantino) 150 West 62nd Street New York NY 10023
SUMMARY:The Robert L. Levine Distinguished Lecture Series
DESCRIPTION:“How Did We Get Here?” with Michael Klarman, Professor, Harv
 ard Law School Monday, February 23, 2026 4–5:30 p.m. In-Per
 son and on Zoom Fordham Law School Bateman Room, Second Flo
 or 150 West 62nd Street New York, NY 10023 Kindly Register 
 Here\nView the full event details here: https://go.activecalendar.com/FordhamUniversity/site/law/event/the-robert-l-levine-distinguished-lecture-series/
CATEGORIES:
CONTACT:Christian Steriti,csteriti@fordham.edu
CLASS:PUBLIC
UID:9A2227CE-C5E3-4700-9EE6-A6D5DEA00C4D
BEGIN:VALARM
TRIGGER:-PT15M
ACTION:DISPLAY
DESCRIPTION:The Robert L. Levine Distinguished Lecture Series
END:VALARM
END:VEVENT
END:VCALENDAR
