BEGIN:VCALENDAR
VERSION:2.0
METHOD:PUBLISH
PRODID:-//ActiveDataExchange/NEXTGEN V1//EN
BEGIN:VEVENT
ORGANIZER:mailto:lvhn@lvhn.org
DTSTART:20260512T150000Z
DTEND:20260512T170000Z
DTSTAMP:20260422T170204Z
LOCATION:Health &amp; Wellness Center at Hazleton 50 Moisey Drive Hazle Township PA 18202
SUMMARY:Free Stroke Risk Assessment and Information Session
DESCRIPTION:Join Lehigh Valley Health Network, part of Jefferson Health,
  for a free stroke screening and educational session.\nView the full event details here: https://go.activecalendar.com/lehighvalleyhealthnetwork/event/free-stroke-risk-assessment-and-information-session-3/
CATEGORIES:Hazleton region, Screenings
CONTACT:External,lvhn@lvhn.org
CLASS:PUBLIC
UID:1C8D21F8-8400-43FE-8342-62F7BF2A58E9
BEGIN:VALARM
TRIGGER:-PT15M
ACTION:DISPLAY
DESCRIPTION:Free Stroke Risk Assessment and Information Session
END:VALARM
END:VEVENT
END:VCALENDAR
