BEGIN:VCALENDAR
VERSION:2.0
METHOD:PUBLISH
PRODID:-//ActiveDataExchange/NEXTGEN V1//EN
BEGIN:VEVENT
ORGANIZER:mailto:Alana.reyes@mongtomerycollege.edu
DTSTART:20260506T150000Z
DTEND:20260506T170000Z
DTSTAMP:20260423T161834Z
LOCATION:HS - Student Life Center (HS011)
SUMMARY:Dog Destress
DESCRIPTION:Join the SGA Student Wellness Committee and Student Life for
  a mental break. Relax and spend time with friendly dogs.\nView the full event details here: https://go.activecalendar.com/montgomerycollege/site/germantown/event/dog-destress/
CATEGORIES:
CONTACT:Alana Reyes,Alana.reyes@mongtomerycollege.edu,(240) 567-7840
CLASS:PUBLIC
UID:AC609734-84EC-4ADA-92CF-EF1406D27E92
BEGIN:VALARM
TRIGGER:-PT15M
ACTION:DISPLAY
DESCRIPTION:Dog Destress
END:VALARM
END:VEVENT
END:VCALENDAR
