BEGIN:VCALENDAR
VERSION:2.0
METHOD:PUBLISH
PRODID:-//ActiveDataExchange/NEXTGEN V1//EN
BEGIN:VEVENT
ORGANIZER:mailto:Alana.reyes@mongtomerycollege.edu
DTSTART:20260504T150000Z
DTEND:20260504T170000Z
DTSTAMP:20260423T162640Z
LOCATION:HS - Student Life Center (HS011)
SUMMARY:Treat Yourself
DESCRIPTION:Treat yourself before finals week and enjoy delicious sweets
 .\nView the full event details here: https://go.activecalendar.com/montgomerycollege/site/germantown/event/treat-yourself/
CATEGORIES:
CONTACT:Alana Reyes,Alana.reyes@mongtomerycollege.edu,(124) 056-7784
CLASS:PUBLIC
UID:D574E1C5-592D-4A72-A74F-4F7BF6500B1C
BEGIN:VALARM
TRIGGER:-PT15M
ACTION:DISPLAY
DESCRIPTION:Treat Yourself
END:VALARM
END:VEVENT
END:VCALENDAR
