BEGIN:VCALENDAR
VERSION:2.0
METHOD:PUBLISH
PRODID:-//ActiveDataExchange/NEXTGEN V1//EN
BEGIN:VEVENT
ORGANIZER:mailto:Alana.reyes@mongtomerycollege.edu
DTSTART:20260507T150000Z
DTEND:20260507T170000Z
DTSTAMP:20260423T162057Z
LOCATION:HS - Student Life Center (HS011)
SUMMARY:Vision Boards &amp; Movie
DESCRIPTION:Come make vision boards and watch teen beach movie\nView the full event details here: https://go.activecalendar.com/montgomerycollege/site/germantown/event/vision-boards--movie/
CATEGORIES:
CONTACT:Alana Reyes,Alana.reyes@mongtomerycollege.edu,(240) 567-7840
CLASS:PUBLIC
UID:6A6E4B4D-BC2D-4214-8555-05F3375CA5BD
BEGIN:VALARM
TRIGGER:-PT15M
ACTION:DISPLAY
DESCRIPTION:Vision Boards &amp; Movie
END:VALARM
END:VEVENT
END:VCALENDAR
