BEGIN:VCALENDAR
VERSION:2.0
METHOD:PUBLISH
PRODID:-//ActiveDataExchange/NEXTGEN V1//EN
BEGIN:VEVENT
DTSTART;VALUE=DATE:20260504
DTEND;VALUE=DATE:20260505
DTSTAMP:20260422T212528Z
LOCATION:Collaboratory 15 East Peace Street Raleigh NC 27604,Dinwiddie Chapel 15 East Peace Street Raleigh NC 27604,Kenan Hall 15 East Peace Street Raleigh NC  27604,Main Lobby 15 East Peace Street Raleigh NC 27604,Main Parlor 15 East Peace Street Raleigh NC 27604
SUMMARY:Commencement Week 
DESCRIPTION:Commencement\nView the full event details here: https://go.activecalendar.com/peace/event/commencement/
CATEGORIES:
CONTACT:
CLASS:PUBLIC
UID:A282731E-E584-493E-AC36-0355128BA09A
BEGIN:VALARM
TRIGGER:-PT15M
ACTION:DISPLAY
DESCRIPTION:Commencement Week 
END:VALARM
END:VEVENT
END:VCALENDAR
