BEGIN:VCALENDAR
VERSION:2.0
METHOD:PUBLISH
PRODID:-//ActiveDataExchange/NEXTGEN V1//EN
BEGIN:VEVENT
DTSTART;VALUE=DATE:20260509
DTEND;VALUE=DATE:20260510
DTSTAMP:20260422T212700Z
LOCATION:Collaboratory 15 East Peace Street Raleigh NC 27604,Dinwiddie Chapel 15 East Peace Street Raleigh NC 27604,Kenan Hall 15 East Peace Street Raleigh NC  27604,Main Lobby 15 East Peace Street Raleigh NC 27604,Main Parlor 15 East Peace Street Raleigh NC 27604
SUMMARY:Commencement Week 
DESCRIPTION:Commencement\nView the full event details here: https://go.activecalendar.com/peace/event/commencement-5/
CATEGORIES:
CONTACT:
CLASS:PUBLIC
UID:E0A05124-98F4-435B-9642-60640DB0E357
BEGIN:VALARM
TRIGGER:-PT15M
ACTION:DISPLAY
DESCRIPTION:Commencement Week 
END:VALARM
END:VEVENT
END:VCALENDAR
