BEGIN:VCALENDAR
VERSION:2.0
METHOD:PUBLISH
PRODID:-//ActiveDataExchange/NEXTGEN V1//EN
BEGIN:VEVENT
ORGANIZER:mailto:ehernandez2@peace.edu
DTSTART:20260424T110000Z
DTEND:20260425T020000Z
DTSTAMP:20260422T212823Z
LOCATION:Blue Parlor 15 East Peace Street Raleigh NC 27604,Dinwiddie Chapel 15 East Peace Street Raleigh NC 27604,Main Parlor 15 East Peace Street Raleigh NC 27604
SUMMARY:JP Wedding
DESCRIPTION:Hold for JP Wedding\nView the full event details here: https://go.activecalendar.com/peace/event/hold-for-jp/
CATEGORIES:
CONTACT:Elsie Hernandez,ehernandez2@peace.edu,(919) 508-2085
CLASS:PUBLIC
UID:1F81CC1F-B2D6-4CDE-820B-2F3E211BB01A
BEGIN:VALARM
TRIGGER:-PT15M
ACTION:DISPLAY
DESCRIPTION:JP Wedding
END:VALARM
END:VEVENT
END:VCALENDAR
