BEGIN:VCALENDAR
VERSION:2.0
METHOD:PUBLISH
PRODID:-//ActiveDataExchange/NEXTGEN V1//EN
BEGIN:VEVENT
ORGANIZER:mailto:ehernandez2@peace.edu
DTSTART:20260425T110000Z
DTEND:20260426T020000Z
DTSTAMP:20260422T212829Z
LOCATION:Blue Parlor 15 East Peace Street Raleigh NC 27604,Dinwiddie Chapel 15 East Peace Street Raleigh NC 27604,Main Parlor 15 East Peace Street Raleigh NC 27604,Main Patio 15 East Peace Street Raleigh NC 27604
SUMMARY:Hold for JP 
DESCRIPTION:Hold for JP Wedding\nView the full event details here: https://go.activecalendar.com/peace/event/hold-for-jp-1/
CATEGORIES:
CONTACT:Elsie,ehernandez2@peace.edu,9195082085
CLASS:PUBLIC
UID:BE943163-FFF9-4EEF-A1A1-516073415AE6
BEGIN:VALARM
TRIGGER:-PT15M
ACTION:DISPLAY
DESCRIPTION:Hold for JP 
END:VALARM
END:VEVENT
END:VCALENDAR
