BEGIN:VCALENDAR
VERSION:2.0
METHOD:PUBLISH
PRODID:-//ActiveDataExchange/NEXTGEN V1//EN
BEGIN:VEVENT
DTSTART:20260426T130000Z
DTEND:20260426T180000Z
DTSTAMP:20260422T213013Z
LOCATION:Dinwiddie Chapel 15 East Peace Street Raleigh NC 27604
SUMMARY:Sunday Ceremony with Pastor Carson
DESCRIPTION:Tabenacle Christian Church\nView the full event details here: https://go.activecalendar.com/peace/event/sunday-ceremony-with-pastor-carson-34/
CATEGORIES:
CONTACT:
CLASS:PUBLIC
UID:4DB37248-A264-4731-AFA0-1F13A9577EF2
BEGIN:VALARM
TRIGGER:-PT15M
ACTION:DISPLAY
DESCRIPTION:Sunday Ceremony with Pastor Carson
END:VALARM
END:VEVENT
END:VCALENDAR
