BEGIN:VCALENDAR
VERSION:2.0
METHOD:PUBLISH
PRODID:-//ActiveDataExchange/NEXTGEN V1//EN
BEGIN:VEVENT
DTSTART:20260503T130000Z
DTEND:20260503T180000Z
DTSTAMP:20260422T212910Z
LOCATION:Dinwiddie Chapel 15 East Peace Street Raleigh NC 27604
SUMMARY:Sunday Ceremony with Pastor Carson
DESCRIPTION:Tabenacle Christian Church\nView the full event details here: https://go.activecalendar.com/peace/event/sunday-ceremony-with-pastor-carson-35/
CATEGORIES:
CONTACT:
CLASS:PUBLIC
UID:5C8C00B3-BBCE-4986-95DA-A720A7E4E789
BEGIN:VALARM
TRIGGER:-PT15M
ACTION:DISPLAY
DESCRIPTION:Sunday Ceremony with Pastor Carson
END:VALARM
END:VEVENT
END:VCALENDAR
