BEGIN:VCALENDAR
VERSION:2.0
METHOD:PUBLISH
PRODID:-//ActiveDataExchange/NEXTGEN V1//EN
BEGIN:VEVENT
DTSTART:20260510T130000Z
DTEND:20260510T180000Z
DTSTAMP:20260422T213029Z
LOCATION:Dinwiddie Chapel 15 East Peace Street Raleigh NC 27604
SUMMARY:Sunday Ceremony with Pastor Carson
DESCRIPTION:Tabenacle Christian Church\nView the full event details here: https://go.activecalendar.com/peace/event/sunday-ceremony-with-pastor-carson-36/
CATEGORIES:
CONTACT:
CLASS:PUBLIC
UID:538E71AE-BAB6-4F44-86D3-394993457A23
BEGIN:VALARM
TRIGGER:-PT15M
ACTION:DISPLAY
DESCRIPTION:Sunday Ceremony with Pastor Carson
END:VALARM
END:VEVENT
END:VCALENDAR
