BEGIN:VCALENDAR
VERSION:2.0
METHOD:PUBLISH
PRODID:-//ActiveDataExchange/NEXTGEN V1//EN
BEGIN:VEVENT
DTSTART:20260517T130000Z
DTEND:20260517T180000Z
DTSTAMP:20260422T212937Z
LOCATION:Dinwiddie Chapel 15 East Peace Street Raleigh NC 27604
SUMMARY:Sunday Ceremony with Pastor Carson
DESCRIPTION:Tabenacle Christian Church\nView the full event details here: https://go.activecalendar.com/peace/event/sunday-ceremony-with-pastor-carson-37/
CATEGORIES:
CONTACT:
CLASS:PUBLIC
UID:D074F1F4-69CE-436B-A315-55D64458E1F7
BEGIN:VALARM
TRIGGER:-PT15M
ACTION:DISPLAY
DESCRIPTION:Sunday Ceremony with Pastor Carson
END:VALARM
END:VEVENT
END:VCALENDAR
